BEGIN:VCALENDAR
VERSION:2.0
PRODID:-//Rethinking Schools - ECPv6.15.20//NONSGML v1.0//EN
CALSCALE:GREGORIAN
METHOD:PUBLISH
X-WR-CALNAME:Rethinking Schools
X-ORIGINAL-URL:https://rethinkingschools.org
X-WR-CALDESC:Events for Rethinking Schools
REFRESH-INTERVAL;VALUE=DURATION:PT1H
X-Robots-Tag:noindex
X-PUBLISHED-TTL:PT1H
BEGIN:VTIMEZONE
TZID:America/Chicago
BEGIN:DAYLIGHT
TZOFFSETFROM:-0600
TZOFFSETTO:-0500
TZNAME:CDT
DTSTART:20240310T080000
END:DAYLIGHT
BEGIN:STANDARD
TZOFFSETFROM:-0500
TZOFFSETTO:-0600
TZNAME:CST
DTSTART:20241103T070000
END:STANDARD
BEGIN:DAYLIGHT
TZOFFSETFROM:-0600
TZOFFSETTO:-0500
TZNAME:CDT
DTSTART:20250309T080000
END:DAYLIGHT
BEGIN:STANDARD
TZOFFSETFROM:-0500
TZOFFSETTO:-0600
TZNAME:CST
DTSTART:20251102T070000
END:STANDARD
BEGIN:DAYLIGHT
TZOFFSETFROM:-0600
TZOFFSETTO:-0500
TZNAME:CDT
DTSTART:20260308T080000
END:DAYLIGHT
BEGIN:STANDARD
TZOFFSETFROM:-0500
TZOFFSETTO:-0600
TZNAME:CST
DTSTART:20261101T070000
END:STANDARD
END:VTIMEZONE
BEGIN:VEVENT
DTSTART;TZID=America/Chicago:20250602T180000
DTEND;TZID=America/Chicago:20250602T193000
DTSTAMP:20260422T194306
CREATED:20250129T163607Z
LAST-MODIFIED:20250516T160817Z
UID:116532-1748887200-1748892600@rethinkingschools.org
SUMMARY:Traveling Black: A Long Journey of Resistance
DESCRIPTION:Historian Mia Bay and Teaching for Black Lives co-editor Jesse Hagopian will discuss Bay’s book\, Traveling Black: A Story of Race and Resistance\, which explores racial restrictions on transportation and resistance to the injustice.
URL:https://rethinkingschools.org/event/traveling-black-a-long-journey-of-resistance/
LOCATION:Zoom
ATTACH;FMTTYPE=image/png:https://rethinkingschools.org/wp-content/uploads/2025/01/June25-TBFS-class.png
END:VEVENT
END:VCALENDAR