BEGIN:VCALENDAR
VERSION:2.0
PRODID:-//Rethinking Schools - ECPv6.15.20//NONSGML v1.0//EN
CALSCALE:GREGORIAN
METHOD:PUBLISH
X-WR-CALNAME:Rethinking Schools
X-ORIGINAL-URL:https://rethinkingschools.org
X-WR-CALDESC:Events for Rethinking Schools
REFRESH-INTERVAL;VALUE=DURATION:PT1H
X-Robots-Tag:noindex
X-PUBLISHED-TTL:PT1H
BEGIN:VTIMEZONE
TZID:America/Chicago
BEGIN:DAYLIGHT
TZOFFSETFROM:-0600
TZOFFSETTO:-0500
TZNAME:CDT
DTSTART:20190310T080000
END:DAYLIGHT
BEGIN:STANDARD
TZOFFSETFROM:-0500
TZOFFSETTO:-0600
TZNAME:CST
DTSTART:20191103T070000
END:STANDARD
BEGIN:DAYLIGHT
TZOFFSETFROM:-0600
TZOFFSETTO:-0500
TZNAME:CDT
DTSTART:20200308T080000
END:DAYLIGHT
BEGIN:STANDARD
TZOFFSETFROM:-0500
TZOFFSETTO:-0600
TZNAME:CST
DTSTART:20201101T070000
END:STANDARD
BEGIN:DAYLIGHT
TZOFFSETFROM:-0600
TZOFFSETTO:-0500
TZNAME:CDT
DTSTART:20210314T080000
END:DAYLIGHT
BEGIN:STANDARD
TZOFFSETFROM:-0500
TZOFFSETTO:-0600
TZNAME:CST
DTSTART:20211107T070000
END:STANDARD
END:VTIMEZONE
BEGIN:VEVENT
DTSTART;TZID=America/Chicago:20201007T110000
DTEND;TZID=America/Chicago:20201007T120000
DTSTAMP:20260425T134406
CREATED:20200922T011325Z
LAST-MODIFIED:20200922T011325Z
UID:26654-1602068400-1602072000@rethinkingschools.org
SUMMARY:Cookie Mining as Critical Pedagogy?
DESCRIPTION:Bill Bigelow\, renowned curriculum editor of Rethinking Schools magazine and co-director of the Zinn Education Project\, will join writer Mark Nowak\, founding director of the Worker Writers School and Professor of English at Manhattanville College\, in a public conversation about critical pedagogy in the classroom. Using Nowak’s book Coal Mountain Elementary\, which Howard Zinn called “a stunning educational tool\,” Bigelow and Nowak will discuss how documentary poetry and classroom pedagogy can help us to think creatively about interdisciplinary methods in which educators\, students\, and families interact in the classroom. \n\nThe hope is to motivate us to re-make remote and in-person classrooms as spaces in which healing and teacher creativity are reignited and curricula engage the critical pedagogy that poor and working poor black\, brown\, and rural white students need to understand and be agents in changing the social conditions of their lives. \n\nFor over 30 years in Oregon\, social studies teacher Bigelow has long shown us how to use the classroom at the level of the public as a space of powerful social critique and change. He has demonstrated how to use classroom “curriculum and instruction” to intellectually\, socially\, and emotionally empower young people and build their academic skills to engage with intention and great purpose in their lives as young people and\, later\, adults. \n\nNowak has been awarded the Guggenheim\, Lannan\, and Creative Capital awards for his global documentary work in South Africa\, Europe\, the US\, and the Panamá. His newest book\, Social Poetics\, documents a people’s history of the poetry workshop from the Watts and Attica uprisings to domestic workers\, taxi drivers\, and street vendors in the Worker Writers School. \n\nJoin us to be reminded by Bigelow and Nowak of what education can be in person and remote.\nModerated by MCLA education undergraduate\, Abigail Berry\, and Lisa Arrastia\, PhD.
URL:https://rethinkingschools.org/event/cookie-mining-as-critical-pedagogy/
ATTACH;FMTTYPE=image/jpeg:https://rethinkingschools.org/wp-content/uploads/2020/09/120005841_3439503979441416_2342841924196251090_n.jpg
END:VEVENT
BEGIN:VEVENT
DTSTART;TZID=America/Chicago:20200924T130000
DTEND;TZID=America/Chicago:20200924T141500
DTSTAMP:20260425T134406
CREATED:20200902T063344Z
LAST-MODIFIED:20200904T181713Z
UID:24612-1600952400-1600956900@rethinkingschools.org
SUMMARY:Anti-Racist Teaching During the Pandemic: Lessons from The New Teacher Book
DESCRIPTION:Teaching is a lifelong challenge\, but the first few years in the classroom are typically the hardest. With the pandemic’s online teaching platforms\, we are all new teachers. Join The New Teacher Book contributors Dyan Watson\, Kara Hinderlie Stroman\, and Ikechukwu Onyema for stories and inspiration about how to infuse social justice ideas into classrooms\, schools and communities. \nDyan Watson is a former high school teacher and teacher educator. Currently\, she serves as the Director for Inclusion at the Oregon Episcopal School and is a Rethinking Schools editor. Some of her works include: Teaching for Black Lives\, Rhythm and Resistance: Teaching Poetry for Social Justice\, and Rethinking Elementary Education. \nKara Hinderlie Stroman is a kindergarten teacher at Irvington Elementary School in Portland Oregon. She won the Enid and Selwyn Bloome Kindergarten Children’s Literature Book Award and has written articles for Rethinking Schools\, including a new piece in the fall issue. \nIkechukwu Onyema is a Chemistry teacher in New Jersey. He is also a co-founder of MAPSO Freedom School\, a local organization committed to racial justice in schools. \nCierra Kaler-Jones is the Education Anew Fellow at Teaching for Change and Communities for Just Schools Fund. She is a Ph.D. candidate in the Department of Teaching and Learning\, Policy\, and Leadership at the University of Maryland\, College Park. Her work examines how Black girls use arts-based practices as forms of expression\, resistance\, and identity development. \nThis event is hosted by Rethinking Schools. Participants will need access to Zoom. The event is 75 minutes. ASL Interpretation is available. \nRegister here for the Zoom link and a 25% Rethinking Schools book and magazine discount code.  
URL:https://rethinkingschools.org/event/anti-racist-teaching-during-the-pandemic-lessons-from-the-new-teacher-book/
ATTACH;FMTTYPE=image/png:https://rethinkingschools.org/wp-content/uploads/2020/09/NTB-Event-FB-Graphic-01.png
END:VEVENT
BEGIN:VEVENT
DTSTART;TZID=America/Chicago:20200913T030000
DTEND;TZID=America/Chicago:20200913T163000
DTSTAMP:20260425T134406
CREATED:20200829T000409Z
LAST-MODIFIED:20200829T000409Z
UID:24259-1599966000-1600014600@rethinkingschools.org
SUMMARY:Climate Crisis and Education: Transforming Curriculum and Pedagogy
DESCRIPTION:Speakers: \nBill Bigelow\, Rethinking Schools USA\nDaniel Kebede\, Senior Vice President NEU\nKate Glenny & Clair Layton\, Primary teachers\nFaul Turner\, Secondary teacher \nPlus input from the school student strikes\, the virtual COP in November\, NEU Climate Change Network and more. \nHosted by The National Education Union\, the largest education union in Europe.
URL:https://rethinkingschools.org/event/climate-crisis-and-education-transforming-curriculum-and-pedagogy/
ATTACH;FMTTYPE=image/png:https://rethinkingschools.org/wp-content/uploads/2020/08/Egb4Om0UwAEyWWR.png
END:VEVENT
BEGIN:VEVENT
DTSTART;TZID=America/Chicago:20200821T130000
DTEND;TZID=America/Chicago:20200821T141500
DTSTAMP:20260425T134406
CREATED:20200728T062001Z
LAST-MODIFIED:20200824T235305Z
UID:19281-1598014800-1598019300@rethinkingschools.org
SUMMARY:Teaching for Black Lives During the Rebellion
DESCRIPTION:Join Teaching for Black Lives co-editors Dyan Watson\, Jesse Hagopian\, and Wayne Au for an urgent discussion on teaching and organizing for racial and economic justice in our schools during the rebellion. \nRegister here \n  \nDyan Watson is a former high school teacher and teacher educator. Currently\, she serves as the Director for Inclusion at the Oregon Episcopal School and is a Rethinking Schools editor. Some of her works include: Teaching for Black Lives\, Rhythm and Resistance: Teaching Poetry for Social Justice\, and Rethinking Elementary Education.  \n\nJesse Hagopian teaches Ethnic Studies and is the co-adviser to the Black Student Union at Garfield High School in Seattle. He is a Rethinking Schools editor\, the co-editor of Teaching for Black Lives\, the co-editor of the forthcoming book\, Black Lives Matter at School\, and editor of More Than a Score: The New Uprising Against High-Stakes Testing.\n\nWayne Au is a professor in the School of Educational Studies at the University of Washington Bothell. He is a long-time Rethinking Schools editor\, editor of Rethinking Multicultural Education\, co-editor of Teaching for Black Lives\, and author of A Marxist Education: Learning to Change the World. \n  \nCierra Kaler-Jones is the Education Anew Fellow at Teaching for Change and Communities for Just Schools Fund. She is a Ph.D. candidate in the Department of Teaching and Learning\, Policy\, and Leadership at the University of Maryland\, College Park. Her work examines how Black girls use arts-based practices as forms of expression\, resistance\, and identity development.\n\nThis event is hosted by Rethinking Schools and sponsored by Teaching for Change.  \n\nParticipants will need access to Zoom. Register for the Zoom link and a 25% Rethinking Schools book and magazine discount code. \nThe recording will be available on our Youtube channel. 
URL:https://rethinkingschools.org/event/teaching-for-black-lives-during-the-rebellion/
ATTACH;FMTTYPE=image/png:https://rethinkingschools.org/wp-content/uploads/2020/07/T4BL-During-the-Rebellion-Event-FB-Graphic-4.png
END:VEVENT
END:VCALENDAR