BEGIN:VCALENDAR
VERSION:2.0
PRODID:-//Rethinking Schools - ECPv6.15.20//NONSGML v1.0//EN
CALSCALE:GREGORIAN
METHOD:PUBLISH
X-ORIGINAL-URL:https://rethinkingschools.org
X-WR-CALDESC:Events for Rethinking Schools
REFRESH-INTERVAL;VALUE=DURATION:PT1H
X-Robots-Tag:noindex
X-PUBLISHED-TTL:PT1H
BEGIN:VTIMEZONE
TZID:America/Chicago
BEGIN:DAYLIGHT
TZOFFSETFROM:-0600
TZOFFSETTO:-0500
TZNAME:CDT
DTSTART:20250309T080000
END:DAYLIGHT
BEGIN:STANDARD
TZOFFSETFROM:-0500
TZOFFSETTO:-0600
TZNAME:CST
DTSTART:20251102T070000
END:STANDARD
BEGIN:DAYLIGHT
TZOFFSETFROM:-0600
TZOFFSETTO:-0500
TZNAME:CDT
DTSTART:20260308T080000
END:DAYLIGHT
BEGIN:STANDARD
TZOFFSETFROM:-0500
TZOFFSETTO:-0600
TZNAME:CST
DTSTART:20261101T070000
END:STANDARD
BEGIN:DAYLIGHT
TZOFFSETFROM:-0600
TZOFFSETTO:-0500
TZNAME:CDT
DTSTART:20270314T080000
END:DAYLIGHT
BEGIN:STANDARD
TZOFFSETFROM:-0500
TZOFFSETTO:-0600
TZNAME:CST
DTSTART:20271107T070000
END:STANDARD
END:VTIMEZONE
BEGIN:VEVENT
DTSTART;TZID=America/Chicago:20260504T180000
DTEND;TZID=America/Chicago:20260504T190000
DTSTAMP:20260422T182157
CREATED:20260107T174410Z
LAST-MODIFIED:20260107T174410Z
UID:138378-1777917600-1777921200@rethinkingschools.org
SUMMARY:Freedom Ship: The Uncharted History of Escaping Slavery by Sea
DESCRIPTION:Monday\, May 4: Freedom Ship: The Uncharted History of Escaping Slavery by Sea \nHistorian Marcus Rediker\, in conversation with Rethinking Schools editor Jesse Hagopian\, will discuss his books Freedom Ship: The Uncharted History of Escaping Slavery by Sea and The Many-Headed Hydra: Sailors\, Slaves\, Commoners\, and the Hidden History of the Revolutionary Atlantic\, and talks about the many enslaved people who fled successfully from the horrors of bondage in the antebellum South not by land but by sea.
URL:https://rethinkingschools.org/event/freedom-ship-the-uncharted-history-of-escaping-slavery-by-sea/
LOCATION:Zoom
ATTACH;FMTTYPE=image/png:https://rethinkingschools.org/wp-content/uploads/2026/01/May26-TBFS-class.png
END:VEVENT
BEGIN:VEVENT
DTSTART;TZID=America/Chicago:20260514T180000
DTEND;TZID=America/Chicago:20260514T190000
DTSTAMP:20260422T182157
CREATED:20260415T202831Z
LAST-MODIFIED:20260415T202831Z
UID:150293-1778781600-1778785200@rethinkingschools.org
SUMMARY:Teacher Unions Fighting Fascism
DESCRIPTION:Join Rethinking Schools for a conversation on how teacher unions are leading the fight against fascism and ICE in their communities and schools. In this webinar\, we will learn\, celebrate\, and amplify the lessons of the people heroically fighting back against ICE occupation — from Chicago to Los Angeles to Minneapolis. From the classroom to the street\, we need to defend our students and together learn the most effective ways to kick ICE out of our schools and communities.  \nParticipants will need access to Zoom. Register for the Zoom link.  \nDate: Thursday\, May 14th\nTime: 4 pm PT/6 pm CT/7 pm ET \nThe event is free. To make events like this available to more educators and activists\, we would greatly appreciate your solidarity donation
URL:https://rethinkingschools.org/event/teacher-unions-fighting-fascism/
LOCATION:Zoom
ATTACH;FMTTYPE=image/png:https://rethinkingschools.org/wp-content/uploads/2026/04/Teacher-Unions-Fighting-Fascism-Event-Graphic.png
END:VEVENT
END:VCALENDAR